BEGIN:VCALENDAR
VERSION:2.0
PRODID:-//York Autograss Club - ECPv6.15.13.1//NONSGML v1.0//EN
CALSCALE:GREGORIAN
METHOD:PUBLISH
X-WR-CALNAME:York Autograss Club
X-ORIGINAL-URL:http://yorkautograssclub.co.uk
X-WR-CALDESC:Events for York Autograss Club
REFRESH-INTERVAL;VALUE=DURATION:PT1H
X-Robots-Tag:noindex
X-PUBLISHED-TTL:PT1H
BEGIN:VTIMEZONE
TZID:Europe/London
BEGIN:DAYLIGHT
TZOFFSETFROM:+0000
TZOFFSETTO:+0100
TZNAME:BST
DTSTART:20250330T010000
END:DAYLIGHT
BEGIN:STANDARD
TZOFFSETFROM:+0100
TZOFFSETTO:+0000
TZNAME:GMT
DTSTART:20251026T010000
END:STANDARD
BEGIN:DAYLIGHT
TZOFFSETFROM:+0000
TZOFFSETTO:+0100
TZNAME:BST
DTSTART:20260329T010000
END:DAYLIGHT
BEGIN:STANDARD
TZOFFSETFROM:+0100
TZOFFSETTO:+0000
TZNAME:GMT
DTSTART:20261025T010000
END:STANDARD
BEGIN:DAYLIGHT
TZOFFSETFROM:+0000
TZOFFSETTO:+0100
TZNAME:BST
DTSTART:20270328T010000
END:DAYLIGHT
BEGIN:STANDARD
TZOFFSETFROM:+0100
TZOFFSETTO:+0000
TZNAME:GMT
DTSTART:20271031T010000
END:STANDARD
END:VTIMEZONE
BEGIN:VEVENT
DTSTART;TZID=Europe/London:20260705T100000
DTEND;TZID=Europe/London:20260705T170000
DTSTAMP:20260425T045015
CREATED:20241021T133726Z
LAST-MODIFIED:20251023T133727Z
UID:2678-1783245600-1783270800@yorkautograssclub.co.uk
SUMMARY:Club Meeting!
DESCRIPTION:
URL:http://yorkautograssclub.co.uk/event/club-meeting-reserve/
LOCATION:York Autograss Club\, York\, YO26 8JZ\, United Kingdom
CATEGORIES:YAC Club Calendar
ATTACH;FMTTYPE=image/png:http://yorkautograssclub.co.uk/wp-content/uploads/2016/04/autograss_york_admin_logo.png
END:VEVENT
BEGIN:VEVENT
DTSTART;TZID=Europe/London:20260711T090000
DTEND;TZID=Europe/London:20260712T170000
DTSTAMP:20260425T045015
CREATED:20211015T142325Z
LAST-MODIFIED:20251020T094738Z
UID:2432-1783760400-1783875600@yorkautograssclub.co.uk
SUMMARY:UKAC Round 3 -Penhow
DESCRIPTION:
URL:http://yorkautograssclub.co.uk/event/ukac-round-5-east-midlands-league/
LOCATION:Penhow\, Darleymoor Raceway\, Near Ashourne to Sudbury Road\, Derbyshire\, Lincolnshire\, DE6 2DS
CATEGORIES:UK Autograss Championship
ATTACH;FMTTYPE=image/jpeg:http://yorkautograssclub.co.uk/wp-content/uploads/2021/10/IMG_7666.jpeg
ORGANIZER;CN="The United Kingdom Autograss Championship (UKAC)":MAILTO:ukac@hotmail.co.uk
END:VEVENT
BEGIN:VEVENT
DTSTART;TZID=Europe/London:20260711T090000
DTEND;TZID=Europe/London:20260712T170000
DTSTAMP:20260425T045015
CREATED:20211015T142901Z
LAST-MODIFIED:20260209T154115Z
UID:2440-1783760400-1783875600@yorkautograssclub.co.uk
SUMMARY:BAS Round 3- Radford
DESCRIPTION:
URL:http://yorkautograssclub.co.uk/event/bas-round-5-seven-valley/
LOCATION:Radford\, Westol Hall Farm\, Radford\, Near Inkberrow\, Worcestershire\, WR7 4LR\, United Kingdom
CATEGORIES:British Autograss Series
ATTACH;FMTTYPE=image/jpeg:http://yorkautograssclub.co.uk/wp-content/uploads/2021/10/20260208_191253695_iOS.jpg
ORGANIZER;CN="British Autograss Series":MAILTO:info@basautograss.co.uk
END:VEVENT
END:VCALENDAR